Workbook

Sheet YTD Tax Calc
A2: YTD/Annual PAYE calculation: Swaziland (July 2019 - June 2020)
B4: Enter the applicable Y+ values in the green areas | C4: E | E4: Notes
B5: Employee age | C5: 30
B6: Number of days employed | C6: 30 | E6: Enter the number of days employed during the tax year
B7: Days in the tax year | C7: 365 | E7: Enter the number of days in the tax year (365/366)
B8: Y+ taxable earnings | C8: 80000
B9: Y+ taxable fringe benefits
B10: Y+ taxable company contributions
B11: Y+ tax deductions | C11: 5000 | E11: Employee contribution to SNPF + employee contribution towards approved pension fund (limited to the statutory limits)
B12: Y+ periodic earnings | C12: 10000 | E12: For example annual bonus
B13: Y+ provident fund contributions | C13: 10000 | E13: Employee contribution towards approved provident fund (excluding SNPF). Limited rebate will automatically be applied.
B14: Y+ tax paid | C14: 1000 | E14: Tax already paid for the year (does not include additional tax)
B16: YTD+ taxable remuneration | C16: =C8+C9+C10-C11+C12 -> 85000
B18: Annualised taxable remuneration (excl. periodic) | C18: =(C8+C9+C10-C11)/C6*C7 -> 912500
B19: Periodic income | C19: =C12+C13 -> 20000
B20: Annualised taxable remuneration (incl. periodic) | C20: =C18+C19 -> 932500
B22: rem incl periodics | C22: =C20 -> 932500
B23: Base amount | C23: =LOOKUP(C22,Tax_Tables!B7:B10,Tax_Tables!C7:C10) -> 47500
B24: % | C24: =LOOKUP(C22,Tax_Tables!B7:B10,Tax_Tables!D7:D10) -> 0.33
B25: Over amount | C25: =LOOKUP(C22,Tax_Tables!B7:B10,Tax_Tables!E7:E10) -> 200000
B26: Tax on annual rem including periodics | C26: =(C22-C25)*C24+C23 -> 289225
B28: rem excl periodics | C28: =C18 -> 912500
B29: Base amount | C29: =LOOKUP(C28,Tax_Tables!B7:B10,Tax_Tables!C7:C10) -> 47500
B30: % | C30: =LOOKUP(C28,Tax_Tables!B7:B10,Tax_Tables!D7:D10) -> 0.33
B31: Over amount | C31: =LOOKUP(C28,Tax_Tables!B7:B10,Tax_Tables!E7:E10) -> 200000
B32: Tax on annual rem excluding periodics | C32: =(C28-C31)*C30+C29 -> 282625
A34: = | B34: PAYE due in this period | C34: =C75 -> 24825.89
B36: Calculation Detail
B37: PAYE on YTD+ rem (excluding periodics)
B38: Year to date taxable remuneration | C38: =C8+C9+C10-C11 -> 75000
A39: / | B39: days worked in the tax year | C39: =C6 -> 30
A40: x | B40: Days in the tax year (366/365) | C40: =C7 -> 365
A41: = | B41: annualised taxable remuneration | C41: =C38/C39*C40 -> 912500
B42: Calculate PAYE According to Statutory Tables
A43: - | B43: Lower bracket in statutory rates | C43: =LOOKUP(C41,Tax_Tables!B7:B10,Tax_Tables!E7:E10) -> 200000
A44: x | B44: Percentage given | C44: =LOOKUP(C41,Tax_Tables!B7:B10,Tax_Tables!D7:D10) -> 0.33
A45: + | B45: Given amount | C45: =LOOKUP(C41,Tax_Tables!B7:B10,Tax_Tables!C7:C10) -> 47500
A46: = | B46: Tax on annual equivalent of normal earnings (excluding rebates) | C46: =(C41-C43)*C44+C45 -> 282625
B47: AGE < 60 | C47: =IF(C5<60,1,0) -> 1
B48: REBATE FOR AGE | C48: =IF(C47=1,8200,(8200+2700)) -> 8200
...

Sheet Sheet1
A1: Resident
A2: Non-resident

Sheet Tax_Tables
B5: Annual tax tables
B6: Taxable Income | C6: Base Amount | D6: % | E6: Above Amount
B7: 0 | C7: 0 | D7: 0.2 | E7: 0
B8: 100001 | C8: 20000 | D8: 0.25 | E8: 100000
B9: 150001 | C9: 32500 | D9: 0.3 | E9: 150000
B10: 200001 | C10: 47500 | D10: 0.33 | E10: 200000
B18: Rabates
B19: General tax rebate
B20: younger than 60 | C20: 8200
B21: 60 and older | C21: 10900
B23: Other rebates
B24: 10% of the amount contributes towards a provident fund limited to E360 per annum

Sheet LookUp List
A1: Yes | B1: 20
A2: No | B2: 80
B3: 100
